BEGIN:VCALENDAR
VERSION:2.0
PRODID:-//Storyteller, Author, Keynote Speaker, &amp; Teacher - ECPv6.15.20//NONSGML v1.0//EN
CALSCALE:GREGORIAN
METHOD:PUBLISH
X-ORIGINAL-URL:https://jessicapiscitellirobinson.com
X-WR-CALDESC:Events for Storyteller, Author, Keynote Speaker, &amp; Teacher
REFRESH-INTERVAL;VALUE=DURATION:PT1H
X-Robots-Tag:noindex
X-PUBLISHED-TTL:PT1H
BEGIN:VTIMEZONE
TZID:America/New_York
BEGIN:DAYLIGHT
TZOFFSETFROM:-0500
TZOFFSETTO:-0400
TZNAME:EDT
DTSTART:20250309T070000
END:DAYLIGHT
BEGIN:STANDARD
TZOFFSETFROM:-0400
TZOFFSETTO:-0500
TZNAME:EST
DTSTART:20251102T060000
END:STANDARD
BEGIN:DAYLIGHT
TZOFFSETFROM:-0500
TZOFFSETTO:-0400
TZNAME:EDT
DTSTART:20260308T070000
END:DAYLIGHT
BEGIN:STANDARD
TZOFFSETFROM:-0400
TZOFFSETTO:-0500
TZNAME:EST
DTSTART:20261101T060000
END:STANDARD
BEGIN:DAYLIGHT
TZOFFSETFROM:-0500
TZOFFSETTO:-0400
TZNAME:EDT
DTSTART:20270314T070000
END:DAYLIGHT
BEGIN:STANDARD
TZOFFSETFROM:-0400
TZOFFSETTO:-0500
TZNAME:EST
DTSTART:20271107T060000
END:STANDARD
END:VTIMEZONE
BEGIN:VEVENT
DTSTART;TZID=America/New_York:20260310T180000
DTEND;TZID=America/New_York:20260310T193000
DTSTAMP:20260423T172152
CREATED:20260304T194950Z
LAST-MODIFIED:20260304T195906Z
UID:758-1773165600-1773171000@jessicapiscitellirobinson.com
SUMMARY:Women's History Proclamation & Reception
DESCRIPTION:Tuesday\, March 10\, 2026\nProclamation\, 7 pm\nReception\, 6 pm \nCity Hall\n10455 Armstrong St.\nFairfax\, VA \nThe Commission for Women invites you to be part of this event celebrating Women’s History Month!  Everyone is welcome!\nWith a sneak-peak Women’s Storytelling Festival Performance! (From me – Jessica Robinson)
URL:https://jessicapiscitellirobinson.com/events/womens-history-proclamation-reception/
CATEGORIES:Free Events
ATTACH;FMTTYPE=image/png:https://jessicapiscitellirobinson.com/wp-content/uploads/2026/03/whm-flyer-draft_crop.png
END:VEVENT
END:VCALENDAR