BEGIN:VCALENDAR
VERSION:2.0
PRODID:-//Storyteller, Author, Keynote Speaker, &amp; Teacher - ECPv6.15.20//NONSGML v1.0//EN
CALSCALE:GREGORIAN
METHOD:PUBLISH
X-WR-CALNAME:Storyteller, Author, Keynote Speaker, &amp; Teacher
X-ORIGINAL-URL:https://jessicapiscitellirobinson.com
X-WR-CALDESC:Events for Storyteller, Author, Keynote Speaker, &amp; Teacher
REFRESH-INTERVAL;VALUE=DURATION:PT1H
X-Robots-Tag:noindex
X-PUBLISHED-TTL:PT1H
BEGIN:VTIMEZONE
TZID:America/New_York
BEGIN:DAYLIGHT
TZOFFSETFROM:-0500
TZOFFSETTO:-0400
TZNAME:EDT
DTSTART:20240310T070000
END:DAYLIGHT
BEGIN:STANDARD
TZOFFSETFROM:-0400
TZOFFSETTO:-0500
TZNAME:EST
DTSTART:20241103T060000
END:STANDARD
BEGIN:DAYLIGHT
TZOFFSETFROM:-0500
TZOFFSETTO:-0400
TZNAME:EDT
DTSTART:20250309T070000
END:DAYLIGHT
BEGIN:STANDARD
TZOFFSETFROM:-0400
TZOFFSETTO:-0500
TZNAME:EST
DTSTART:20251102T060000
END:STANDARD
BEGIN:DAYLIGHT
TZOFFSETFROM:-0500
TZOFFSETTO:-0400
TZNAME:EDT
DTSTART:20260308T070000
END:DAYLIGHT
BEGIN:STANDARD
TZOFFSETFROM:-0400
TZOFFSETTO:-0500
TZNAME:EST
DTSTART:20261101T060000
END:STANDARD
END:VTIMEZONE
BEGIN:VEVENT
DTSTART;TZID=America/New_York:20251110T190000
DTEND;TZID=America/New_York:20251110T220000
DTSTAMP:20260424T213800
CREATED:20251009T135010Z
LAST-MODIFIED:20251023T195124Z
UID:634-1762801200-1762812000@jessicapiscitellirobinson.com
SUMMARY:Reading at The Inner Loop
DESCRIPTION:I’m excited to be reading from my story in the new anthology\, America’s Future\, from Washington Writers Publishing House\, at The Inner Loop! \n\nWHEN:  Monday\, November 10th from 7-10 pm \nWHERE: Shaw’s Tavern\, 520 Florida Avenue Northwest\, Washington\, DC 20001 \n\nThe Inner Loop is known for their lively\, inclusive\, monthly reading series. Several contributors to America’s Future will be reading from the book\, and the book will be available for purchase!\n \nThis event is FREE AND OPEN TO ALL (RSVPS are requested).
URL:https://jessicapiscitellirobinson.com/events/reading-at-the-inner-loop/
LOCATION:Shaw’s Tavern\, 520 Florida Ave. NW\, District of Columbia\, 20001\, United States
CATEGORIES:Author Event
ATTACH;FMTTYPE=image/png:https://jessicapiscitellirobinson.com/wp-content/uploads/2025/10/Americas-Future-Draft.png
END:VEVENT
END:VCALENDAR