BEGIN:VCALENDAR
VERSION:2.0
PRODID:-//Storyteller, Author, Keynote Speaker, &amp; Teacher - ECPv6.15.20//NONSGML v1.0//EN
CALSCALE:GREGORIAN
METHOD:PUBLISH
X-ORIGINAL-URL:https://jessicapiscitellirobinson.com
X-WR-CALDESC:Events for Storyteller, Author, Keynote Speaker, &amp; Teacher
REFRESH-INTERVAL;VALUE=DURATION:PT1H
X-Robots-Tag:noindex
X-PUBLISHED-TTL:PT1H
BEGIN:VTIMEZONE
TZID:America/New_York
BEGIN:DAYLIGHT
TZOFFSETFROM:-0500
TZOFFSETTO:-0400
TZNAME:EDT
DTSTART:20250309T070000
END:DAYLIGHT
BEGIN:STANDARD
TZOFFSETFROM:-0400
TZOFFSETTO:-0500
TZNAME:EST
DTSTART:20251102T060000
END:STANDARD
BEGIN:DAYLIGHT
TZOFFSETFROM:-0500
TZOFFSETTO:-0400
TZNAME:EDT
DTSTART:20260308T070000
END:DAYLIGHT
BEGIN:STANDARD
TZOFFSETFROM:-0400
TZOFFSETTO:-0500
TZNAME:EST
DTSTART:20261101T060000
END:STANDARD
BEGIN:DAYLIGHT
TZOFFSETFROM:-0500
TZOFFSETTO:-0400
TZNAME:EDT
DTSTART:20270314T070000
END:DAYLIGHT
BEGIN:STANDARD
TZOFFSETFROM:-0400
TZOFFSETTO:-0500
TZNAME:EST
DTSTART:20271107T060000
END:STANDARD
END:VTIMEZONE
BEGIN:VEVENT
DTSTART;TZID=America/New_York:20260211T193000
DTEND;TZID=America/New_York:20260211T210000
DTSTAMP:20260423T171142
CREATED:20251130T153225Z
LAST-MODIFIED:20260204T195044Z
UID:684-1770838200-1770843600@jessicapiscitellirobinson.com
SUMMARY:The Grapevine 2026
DESCRIPTION:Join The Grapevine Storytelling Series on Wednesday\, February 11 at 7:30 Eastern at Busboys and Poets Takoma or via Zoom. Our featured tellers this month are Jessica Piscitelli Robinson and Chetter Galloway!\n\nRegister or learn more: https://fsgw.org/event-6452023\n\nThis event is FREE\, and we ask for donations to support our tellers\, suggested $20 per person. Donations can be made in person or online before\, during\, or after the show\, at: https://fsgw2.org/grapevine.html\n\nThe Grapevine is spoken word performance for adults and teens\, celebrating the timeless art of the story\, hosted by storytellers Renée Brachfeld and Tim Livengood.
URL:https://jessicapiscitellirobinson.com/events/the-grapevine-2026/
LOCATION:Busboys and Poets\, 235 Carroll St NW\, Washington DC\, DC\, 20012\, United States
CATEGORIES:Storytelling
ATTACH;FMTTYPE=image/jpeg:https://jessicapiscitellirobinson.com/wp-content/uploads/2025/11/Upcoming_Grapevine.jpg
END:VEVENT
END:VCALENDAR