BEGIN:VCALENDAR
VERSION:2.0
PRODID:-//Storyteller, Author, Keynote Speaker, &amp; Teacher - ECPv6.15.20//NONSGML v1.0//EN
CALSCALE:GREGORIAN
METHOD:PUBLISH
X-ORIGINAL-URL:https://jessicapiscitellirobinson.com
X-WR-CALDESC:Events for Storyteller, Author, Keynote Speaker, &amp; Teacher
REFRESH-INTERVAL;VALUE=DURATION:PT1H
X-Robots-Tag:noindex
X-PUBLISHED-TTL:PT1H
BEGIN:VTIMEZONE
TZID:America/New_York
BEGIN:DAYLIGHT
TZOFFSETFROM:-0500
TZOFFSETTO:-0400
TZNAME:EDT
DTSTART:20240310T070000
END:DAYLIGHT
BEGIN:STANDARD
TZOFFSETFROM:-0400
TZOFFSETTO:-0500
TZNAME:EST
DTSTART:20241103T060000
END:STANDARD
BEGIN:DAYLIGHT
TZOFFSETFROM:-0500
TZOFFSETTO:-0400
TZNAME:EDT
DTSTART:20250309T070000
END:DAYLIGHT
BEGIN:STANDARD
TZOFFSETFROM:-0400
TZOFFSETTO:-0500
TZNAME:EST
DTSTART:20251102T060000
END:STANDARD
BEGIN:DAYLIGHT
TZOFFSETFROM:-0500
TZOFFSETTO:-0400
TZNAME:EDT
DTSTART:20260308T070000
END:DAYLIGHT
BEGIN:STANDARD
TZOFFSETFROM:-0400
TZOFFSETTO:-0500
TZNAME:EST
DTSTART:20261101T060000
END:STANDARD
END:VTIMEZONE
BEGIN:VEVENT
DTSTART;TZID=America/New_York:20251120T180000
DTEND;TZID=America/New_York:20251120T200000
DTSTAMP:20260424T061907
CREATED:20251113T191436Z
LAST-MODIFIED:20251113T191436Z
UID:643-1763661600-1763668800@jessicapiscitellirobinson.com
SUMMARY:Storytelling Open Mic
DESCRIPTION:(Ages 12+) The mic is yours! Bring a prepared story that is 5-7 minutes in length in any format and step up to the mic to share it the others in this community series. Each month\, we will host an open mic evening followed by a 30-minute performance from a professional storyteller. With special guest storyteller Jessica Robinson\, Better Said Than Done’s Executive Director. \nListeners and storytellers are welcome — everyone needs a ticket. \nNovember theme: Family & Food For Thought \nStorytellers will sign up when arriving and if there are more tellers that time\, we’ll draw names at random for a turn at the mic.
URL:https://jessicapiscitellirobinson.com/events/storytelling-open-mic/
LOCATION:Franklin Park Arts Center\, 36441 Blueridge View Lane\, Purcelville\, VA
CATEGORIES:Storytelling
ATTACH;FMTTYPE=image/jpeg:https://jessicapiscitellirobinson.com/wp-content/uploads/2025/11/11_FranklinPark_OpenMic-copy.jpg
END:VEVENT
END:VCALENDAR