BEGIN:VCALENDAR
VERSION:2.0
PRODID:-//Storyteller, Author, Keynote Speaker, &amp; Teacher - ECPv6.15.20//NONSGML v1.0//EN
CALSCALE:GREGORIAN
METHOD:PUBLISH
X-WR-CALNAME:Storyteller, Author, Keynote Speaker, &amp; Teacher
X-ORIGINAL-URL:https://jessicapiscitellirobinson.com
X-WR-CALDESC:Events for Storyteller, Author, Keynote Speaker, &amp; Teacher
REFRESH-INTERVAL;VALUE=DURATION:PT1H
X-Robots-Tag:noindex
X-PUBLISHED-TTL:PT1H
BEGIN:VTIMEZONE
TZID:America/New_York
BEGIN:DAYLIGHT
TZOFFSETFROM:-0500
TZOFFSETTO:-0400
TZNAME:EDT
DTSTART:20240310T070000
END:DAYLIGHT
BEGIN:STANDARD
TZOFFSETFROM:-0400
TZOFFSETTO:-0500
TZNAME:EST
DTSTART:20241103T060000
END:STANDARD
BEGIN:DAYLIGHT
TZOFFSETFROM:-0500
TZOFFSETTO:-0400
TZNAME:EDT
DTSTART:20250309T070000
END:DAYLIGHT
BEGIN:STANDARD
TZOFFSETFROM:-0400
TZOFFSETTO:-0500
TZNAME:EST
DTSTART:20251102T060000
END:STANDARD
BEGIN:DAYLIGHT
TZOFFSETFROM:-0500
TZOFFSETTO:-0400
TZNAME:EDT
DTSTART:20260308T070000
END:DAYLIGHT
BEGIN:STANDARD
TZOFFSETFROM:-0400
TZOFFSETTO:-0500
TZNAME:EST
DTSTART:20261101T060000
END:STANDARD
END:VTIMEZONE
BEGIN:VEVENT
DTSTART;TZID=America/New_York:20250802T150000
DTEND;TZID=America/New_York:20250802T220000
DTSTAMP:20260424T115535
CREATED:20250618T184210Z
LAST-MODIFIED:20250722T160545Z
UID:507-1754146800-1754172000@jessicapiscitellirobinson.com
SUMMARY:Good Liars Club Festival 2025
DESCRIPTION:I love me some good lies\, and the Good Liar’s Club Festival is chock full of the best lies!  This year\, as in years past\, I will be emceeing one showcase and lying in another. \nLive on Zoom\, Anne Rutherford & Norm Brecke present:\nThe 2025 Good Liars Club Festival\nSat Aug  2\n11am AKDT/ Noon PDT/ 1pm MDT/ 2pm CDT/ 3pm EDT\n6 showcases of 24 fabulous liars stretching the truth in good-natured fun.\n\nShowcases  run every hour on the hour\nOne registration link lets you come in and out of the festival as you please.\nDonors get a recording of the festival to watch on demand.\nDon’t miss the fourth year of this festival of confabulation!\n\nFestival schedule & registration:\nhttps://www.anne-norm.com/2025-glc-festival\n\n \nAt 6:00pm Eastern\, I will be telling a lie alongside fantastic fabulators Nancy Wang\, Steven Heneger\, Claire Hennessy\, and emcee extraordinaire Tobey Ishii Anderson.\n\nAt 7:00pm Eastern\, I get to say whatever I want (it is a lying show!) about the penultimate prevaricators Amanda Lawrence\, Chetter Galloway\, Clementine Ryder\, and Ed Stivender! Oh\, am I gonna have fun!\n\nYou can too! You can even watch for free\, though donations are happily accepted.\n 
URL:https://jessicapiscitellirobinson.com/events/good-liars-club-festival-2025/
CATEGORIES:Storytelling Festival
ATTACH;FMTTYPE=image/jpeg:https://jessicapiscitellirobinson.com/wp-content/uploads/2025/06/Good-Liars-Club-Festival-2025.jpeg
END:VEVENT
BEGIN:VEVENT
DTSTART;TZID=America/New_York:20250807T200000
DTEND;TZID=America/New_York:20250807T210000
DTSTAMP:20260424T115535
CREATED:20250722T162008Z
LAST-MODIFIED:20250722T162008Z
UID:517-1754596800-1754600400@jessicapiscitellirobinson.com
SUMMARY:Legendary Stories
DESCRIPTION:I am excited to emcee a night of Legendary Stories from some of the world’s most legendary storytellers. \nDetails and registration here: \nLegendary Stories \n \n 
URL:https://jessicapiscitellirobinson.com/events/legendary-stories/
CATEGORIES:Storytelling
ATTACH;FMTTYPE=image/jpeg:https://jessicapiscitellirobinson.com/wp-content/uploads/2025/07/08_07_IG4.jpg
END:VEVENT
BEGIN:VEVENT
DTSTART;TZID=America/New_York:20250826T200000
DTEND;TZID=America/New_York:20250826T213000
DTSTAMP:20260424T115535
CREATED:20250813T172408Z
LAST-MODIFIED:20250813T173152Z
UID:563-1756238400-1756243800@jessicapiscitellirobinson.com
SUMMARY:Moving Stories
DESCRIPTION:I am looking forward to emceeing – and selecting only the most awkward questions from the audience – for this online show.\nMoving Stories: Across The Pond And Far From Normal August 26th\nClaire Hennessy and Regina Stoops are bringing the Fringe show they performed at the National Storytelling Network Conference to the Six Feet Apart virtual stage. Each will tell how they decided to make California their home and build a family. Both paths are sometimes difficult\, fraught with chaos and challenges\, but also funny and heartwarming. \nTheir favorite producer and storyteller from the East Coast\, the fabulous Jessica Robinson\, will emcee and host a Q&A afterward. \nRegister here.
URL:https://jessicapiscitellirobinson.com/events/moving-stories/
CATEGORIES:Storytelling
ATTACH;FMTTYPE=image/jpeg:https://jessicapiscitellirobinson.com/wp-content/uploads/2025/08/MovingStories_EVT.jpg
END:VEVENT
END:VCALENDAR