BEGIN:VCALENDAR
VERSION:2.0
PRODID:-//Storyteller, Author, Keynote Speaker, &amp; Teacher - ECPv6.15.20//NONSGML v1.0//EN
CALSCALE:GREGORIAN
METHOD:PUBLISH
X-WR-CALNAME:Storyteller, Author, Keynote Speaker, &amp; Teacher
X-ORIGINAL-URL:https://jessicapiscitellirobinson.com
X-WR-CALDESC:Events for Storyteller, Author, Keynote Speaker, &amp; Teacher
REFRESH-INTERVAL;VALUE=DURATION:PT1H
X-Robots-Tag:noindex
X-PUBLISHED-TTL:PT1H
BEGIN:VTIMEZONE
TZID:America/New_York
BEGIN:DAYLIGHT
TZOFFSETFROM:-0500
TZOFFSETTO:-0400
TZNAME:EDT
DTSTART:20240310T070000
END:DAYLIGHT
BEGIN:STANDARD
TZOFFSETFROM:-0400
TZOFFSETTO:-0500
TZNAME:EST
DTSTART:20241103T060000
END:STANDARD
BEGIN:DAYLIGHT
TZOFFSETFROM:-0500
TZOFFSETTO:-0400
TZNAME:EDT
DTSTART:20250309T070000
END:DAYLIGHT
BEGIN:STANDARD
TZOFFSETFROM:-0400
TZOFFSETTO:-0500
TZNAME:EST
DTSTART:20251102T060000
END:STANDARD
BEGIN:DAYLIGHT
TZOFFSETFROM:-0500
TZOFFSETTO:-0400
TZNAME:EDT
DTSTART:20260308T070000
END:DAYLIGHT
BEGIN:STANDARD
TZOFFSETFROM:-0400
TZOFFSETTO:-0500
TZNAME:EST
DTSTART:20261101T060000
END:STANDARD
END:VTIMEZONE
BEGIN:VEVENT
DTSTART;TZID=America/New_York:20250710T200000
DTEND;TZID=America/New_York:20250710T213000
DTSTAMP:20260424T212224
CREATED:20250618T183203Z
LAST-MODIFIED:20250706T220400Z
UID:505-1752177600-1752183000@jessicapiscitellirobinson.com
SUMMARY:Hot and Spicy Stories
DESCRIPTION:Better Said Than Done’s Hot and Spicy storytelling show\, online. \nOn July 10\, 2025\, join storytellers Vicki Bryan\, Claire Hennessy\, Jessica Robinson\, Jude Treder-Wolff and Megan Wells\, on Zoom\, for Hot and Spicy Stories. \n$15 Suggested/$5 Minimum\nAll Proceeds Split Between Producer and Storytellers \nIf you miss it live on Zoom\, you can watch the recording on Youtube. \nDetails and tickets here.
URL:https://jessicapiscitellirobinson.com/events/hot-and-spicy-stories/
CATEGORIES:Storytelling
ATTACH;FMTTYPE=image/jpeg:https://jessicapiscitellirobinson.com/wp-content/uploads/2025/06/07_10_IG.jpg
END:VEVENT
BEGIN:VEVENT
DTSTART;TZID=America/New_York:20250717T120000
DTEND;TZID=America/New_York:20250720T170000
DTSTAMP:20260424T212224
CREATED:20250618T131621Z
LAST-MODIFIED:20250618T131621Z
UID:498-1752753600-1753030800@jessicapiscitellirobinson.com
SUMMARY:Women Tell at the NSN
DESCRIPTION:I am thrilled to be sharing a story in a Women’s Storytelling Festival showcase at the National Storytelling Network Conference in Georgia this July. Our showcase features storytellers Carmen Agra Deedy\, Karin Amano\, Lona Bartlett\, Lyn Ford\, Bonnie Gardner\, Jennifer Munro\, and me\, Jessica Robinson. It really is a phenomenal lineup and I am thrilled to be sharing stories\, and the stage\, with these women. \nThe NSN conference runs from July 17 – 20\, 2025. It will take place in-person at Kennesaw State University\, as well as many of the events being available to watch online\, including our women’s showcase. \nYou can find the complete conference schedule as well as details on how to register to attend in-person or purchase a virtual ticket here.
URL:https://jessicapiscitellirobinson.com/events/women-tell-at-the-nsn/
CATEGORIES:Storytelling,Storytelling Festival
ATTACH;FMTTYPE=image/jpeg:https://jessicapiscitellirobinson.com/wp-content/uploads/2025/06/12.jpg
END:VEVENT
END:VCALENDAR