BEGIN:VCALENDAR
VERSION:2.0
PRODID:-//Storyteller, Author, Keynote Speaker, &amp; Teacher - ECPv6.15.20//NONSGML v1.0//EN
CALSCALE:GREGORIAN
METHOD:PUBLISH
X-ORIGINAL-URL:https://jessicapiscitellirobinson.com
X-WR-CALDESC:Events for Storyteller, Author, Keynote Speaker, &amp; Teacher
REFRESH-INTERVAL;VALUE=DURATION:PT1H
X-Robots-Tag:noindex
X-PUBLISHED-TTL:PT1H
BEGIN:VTIMEZONE
TZID:America/New_York
BEGIN:DAYLIGHT
TZOFFSETFROM:-0500
TZOFFSETTO:-0400
TZNAME:EDT
DTSTART:20250309T070000
END:DAYLIGHT
BEGIN:STANDARD
TZOFFSETFROM:-0400
TZOFFSETTO:-0500
TZNAME:EST
DTSTART:20251102T060000
END:STANDARD
BEGIN:DAYLIGHT
TZOFFSETFROM:-0500
TZOFFSETTO:-0400
TZNAME:EDT
DTSTART:20260308T070000
END:DAYLIGHT
BEGIN:STANDARD
TZOFFSETFROM:-0400
TZOFFSETTO:-0500
TZNAME:EST
DTSTART:20261101T060000
END:STANDARD
BEGIN:DAYLIGHT
TZOFFSETFROM:-0500
TZOFFSETTO:-0400
TZNAME:EDT
DTSTART:20270314T070000
END:DAYLIGHT
BEGIN:STANDARD
TZOFFSETFROM:-0400
TZOFFSETTO:-0500
TZNAME:EST
DTSTART:20271107T060000
END:STANDARD
END:VTIMEZONE
BEGIN:VEVENT
DTSTART;TZID=America/New_York:20260319T183000
DTEND;TZID=America/New_York:20260322T170000
DTSTAMP:20260423T172439
CREATED:20251119T005559Z
LAST-MODIFIED:20251119T005559Z
UID:650-1773945000-1774198800@jessicapiscitellirobinson.com
SUMMARY:The 2026 Women's Storytelling Festival
DESCRIPTION:I’m thrilled to once again emcee a showcase at the Women’s Storytelling Festival. \nThe 2026 Women’s Storytelling Festival will take place March 19 – 22\, 2026\, starting with a virtual only showcase on the 19th and continuing in-person at the Sherwood Community Center\, 3740 Blenheim Blvd\, Fairfax\, VA 22030 through March 22nd. \nThe Women’s Storytelling Festival Main Page\nThe WSF Tickets Page\nThe Women’s Storytelling Festival\, produced annually in March by Better Said Than Done\, is a festival celebrating all women and gender nonconforming spoken-word performing artists. The festival debuted in March 2020 in Fairfax City\, VA. The stories shared at the first festival were no different than what you’d hear at any festival. There were folk tales\, historical tales\, personal stories\, myths\, legends\, and lying. The one difference was that all the voices were female. And that one difference was key. \nThis is a storytelling festival\, like any other. However\, when women feel safe and heard\, like we are in a space where our stories are given equal attention\, the performances\, and the stories themselves\, are different. There is a hum of feminine power that runs through the festival even when the stories are about Jack\, Coyote\, Anansi\, or that thing that happened that one time at work. We are are human. We are storytellers. We are women. Hear us tell. \nThe Women’s Storytelling Festival is intended for a mature audience.
URL:https://jessicapiscitellirobinson.com/events/the-2026-womens-storytelling-festival/
CATEGORIES:Storytelling Festival
ATTACH;FMTTYPE=image/jpeg:https://jessicapiscitellirobinson.com/wp-content/uploads/2025/11/2026-WSF-SqvAll.jpg
END:VEVENT
END:VCALENDAR