BEGIN:VCALENDAR
VERSION:2.0
PRODID:-//Storyteller, Author, Keynote Speaker, &amp; Teacher - ECPv6.15.20//NONSGML v1.0//EN
CALSCALE:GREGORIAN
METHOD:PUBLISH
X-ORIGINAL-URL:https://jessicapiscitellirobinson.com
X-WR-CALDESC:Events for Storyteller, Author, Keynote Speaker, &amp; Teacher
REFRESH-INTERVAL;VALUE=DURATION:PT1H
X-Robots-Tag:noindex
X-PUBLISHED-TTL:PT1H
BEGIN:VTIMEZONE
TZID:America/New_York
BEGIN:DAYLIGHT
TZOFFSETFROM:-0500
TZOFFSETTO:-0400
TZNAME:EDT
DTSTART:20250309T070000
END:DAYLIGHT
BEGIN:STANDARD
TZOFFSETFROM:-0400
TZOFFSETTO:-0500
TZNAME:EST
DTSTART:20251102T060000
END:STANDARD
BEGIN:DAYLIGHT
TZOFFSETFROM:-0500
TZOFFSETTO:-0400
TZNAME:EDT
DTSTART:20260308T070000
END:DAYLIGHT
BEGIN:STANDARD
TZOFFSETFROM:-0400
TZOFFSETTO:-0500
TZNAME:EST
DTSTART:20261101T060000
END:STANDARD
BEGIN:DAYLIGHT
TZOFFSETFROM:-0500
TZOFFSETTO:-0400
TZNAME:EDT
DTSTART:20270314T070000
END:DAYLIGHT
BEGIN:STANDARD
TZOFFSETFROM:-0400
TZOFFSETTO:-0500
TZNAME:EST
DTSTART:20271107T060000
END:STANDARD
END:VTIMEZONE
BEGIN:VEVENT
DTSTART;TZID=America/New_York:20260410T113000
DTEND;TZID=America/New_York:20260411T170000
DTSTAMP:20260423T182718
CREATED:20260218T175748Z
LAST-MODIFIED:20260326T003417Z
UID:753-1775820600-1775926800@jessicapiscitellirobinson.com
SUMMARY:The Georgia Mountain Storytelling Festival
DESCRIPTION:You can watch the Georgia Mountain Storytelling Festival online\, or join me in Georgia at this beautiful mountain resort\, to take in the sites\, the fresh air\, and the storytelling! Or watch online\, from wherever you are. I’m telling in the Regional voices and Ghost stories concerts. \nwww.gamountainstoryfest.org \nThe 12th annual\nGeorgia Mountain Storytelling Festival!\nApril 10-11\, 2026\nin-person at\nThe Ridges Resort in Hiawassee\, GA and online
URL:https://jessicapiscitellirobinson.com/events/the-georgia-mountain-storytelling-festival/
CATEGORIES:Storytelling Festival
ATTACH;FMTTYPE=image/jpeg:https://jessicapiscitellirobinson.com/wp-content/uploads/2026/02/2026-GMSF_Regional_Ad_1080FB1-e1771437582870.jpg
END:VEVENT
END:VCALENDAR