BEGIN:VCALENDAR
VERSION:2.0
PRODID:-//Storyteller, Author, Keynote Speaker, &amp; Teacher - ECPv6.15.20//NONSGML v1.0//EN
CALSCALE:GREGORIAN
METHOD:PUBLISH
X-ORIGINAL-URL:https://jessicapiscitellirobinson.com
X-WR-CALDESC:Events for Storyteller, Author, Keynote Speaker, &amp; Teacher
REFRESH-INTERVAL;VALUE=DURATION:PT1H
X-Robots-Tag:noindex
X-PUBLISHED-TTL:PT1H
BEGIN:VTIMEZONE
TZID:America/New_York
BEGIN:DAYLIGHT
TZOFFSETFROM:-0500
TZOFFSETTO:-0400
TZNAME:EDT
DTSTART:20250309T070000
END:DAYLIGHT
BEGIN:STANDARD
TZOFFSETFROM:-0400
TZOFFSETTO:-0500
TZNAME:EST
DTSTART:20251102T060000
END:STANDARD
BEGIN:DAYLIGHT
TZOFFSETFROM:-0500
TZOFFSETTO:-0400
TZNAME:EDT
DTSTART:20260308T070000
END:DAYLIGHT
BEGIN:STANDARD
TZOFFSETFROM:-0400
TZOFFSETTO:-0500
TZNAME:EST
DTSTART:20261101T060000
END:STANDARD
BEGIN:DAYLIGHT
TZOFFSETFROM:-0500
TZOFFSETTO:-0400
TZNAME:EDT
DTSTART:20270314T070000
END:DAYLIGHT
BEGIN:STANDARD
TZOFFSETFROM:-0400
TZOFFSETTO:-0500
TZNAME:EST
DTSTART:20271107T060000
END:STANDARD
END:VTIMEZONE
BEGIN:VEVENT
DTSTART;TZID=America/New_York:20260221T180000
DTEND;TZID=America/New_York:20260221T200000
DTSTAMP:20260423T183908
CREATED:20260218T172540Z
LAST-MODIFIED:20260218T173406Z
UID:740-1771696800-1771704000@jessicapiscitellirobinson.com
SUMMARY:Stories about Games\, Cheats\, and Tricks
DESCRIPTION:Details and Tickets Here: bettersaidthandone.org/player-stories-about-games/ \nI am so looking forward to emceeing this show! \nOn February 21\, join us at Clare and Don’s Beach Shack for “Player: Stories about games\, cheats\, and tricks\,” with emcee Jessica Robinson and storytellers Catherine Calvin\, J.R. Denson\, Bonnie Gardner\, Rajesh Mirchandani\, Ravi Pimplaskar\, and Jack Scheer. \nClare and Don’s Beach Shack is located at 130 N Washington St\, Falls Church\, VA 22046. A full dinner and bar menu is available for purchase before and during the show. There is plenty of free parking nearby\, including a parking garage behind Clare and Don’s.
URL:https://jessicapiscitellirobinson.com/events/stories-about-games-cheats-and-tricks/
LOCATION:Clare & Don’s Beach Shack\, 130 N Washington Street\, Falls Church\, VA\, 22046\, United States
CATEGORIES:Storytelling
ATTACH;FMTTYPE=image/jpeg:https://jessicapiscitellirobinson.com/wp-content/uploads/2026/02/02_21_IGv2.jpg
END:VEVENT
END:VCALENDAR