BEGIN:VCALENDAR
VERSION:2.0
PRODID:-//Storyteller, Author, Keynote Speaker, &amp; Teacher - ECPv6.15.20//NONSGML v1.0//EN
CALSCALE:GREGORIAN
METHOD:PUBLISH
X-ORIGINAL-URL:https://jessicapiscitellirobinson.com
X-WR-CALDESC:Events for Storyteller, Author, Keynote Speaker, &amp; Teacher
REFRESH-INTERVAL;VALUE=DURATION:PT1H
X-Robots-Tag:noindex
X-PUBLISHED-TTL:PT1H
BEGIN:VTIMEZONE
TZID:America/New_York
BEGIN:DAYLIGHT
TZOFFSETFROM:-0500
TZOFFSETTO:-0400
TZNAME:EDT
DTSTART:20250309T070000
END:DAYLIGHT
BEGIN:STANDARD
TZOFFSETFROM:-0400
TZOFFSETTO:-0500
TZNAME:EST
DTSTART:20251102T060000
END:STANDARD
BEGIN:DAYLIGHT
TZOFFSETFROM:-0500
TZOFFSETTO:-0400
TZNAME:EDT
DTSTART:20260308T070000
END:DAYLIGHT
BEGIN:STANDARD
TZOFFSETFROM:-0400
TZOFFSETTO:-0500
TZNAME:EST
DTSTART:20261101T060000
END:STANDARD
BEGIN:DAYLIGHT
TZOFFSETFROM:-0500
TZOFFSETTO:-0400
TZNAME:EDT
DTSTART:20270314T070000
END:DAYLIGHT
BEGIN:STANDARD
TZOFFSETFROM:-0400
TZOFFSETTO:-0500
TZNAME:EST
DTSTART:20271107T060000
END:STANDARD
END:VTIMEZONE
BEGIN:VEVENT
DTSTART;TZID=America/New_York:20260425T180000
DTEND;TZID=America/New_York:20260425T200000
DTSTAMP:20260423T123712
CREATED:20260418T221135Z
LAST-MODIFIED:20260418T221405Z
UID:804-1777140000-1777147200@jessicapiscitellirobinson.com
SUMMARY:It's Raining Men in Falls Church\, VA
DESCRIPTION:On April 25\, join Better Said Than Done at Clare and Don’s Beach Shack for “It’s Raining Men: stories about guys and weather\,” with emcee Ravi Pimplaskar and storytellers Len Kruger\, Joe Morice\, Sarah Snyder\, Zette St. Charles\, Carlos Velazquez\, and Chris Wade. \nClare and Don’s Beach Shack is located at 130 N Washington St\, Falls Church\, VA 22046. A full dinner and bar menu is available for purchase before and during the show. There is plenty of free parking nearby\, including a parking garage behind Clare and Don’s. \nTickets Here: bettersaidthandone.org/event/its-raining-men/
URL:https://jessicapiscitellirobinson.com/events/its-raining-men-in-falls-church-va/
ATTACH;FMTTYPE=image/jpeg:https://jessicapiscitellirobinson.com/wp-content/uploads/2026/04/04_25_IGvTellers-1.jpg
END:VEVENT
BEGIN:VEVENT
DTSTART;TZID=America/New_York:20260429T190000
DTEND;TZID=America/New_York:20260429T210000
DTSTAMP:20260423T123712
CREATED:20260330T223650Z
LAST-MODIFIED:20260422T121325Z
UID:784-1777489200-1777496400@jessicapiscitellirobinson.com
SUMMARY:Spring Story Workshops Week 1 – Drama
DESCRIPTION:Join Better Said Than Done storytelling online this Spring for a series of storytelling workshops to nourish and grow your creative spirit. Workshops led by Better Said Than Done Executive Director Jessica Piscitelli Robinson. You can register on this page. \nApril 29\, 2026 – Workshop 1: Drama – what makes a story a story\nLearn the difference between a story you can tell in front of an audience\, and a vignette you’d share at the dinner table.  This workshop will focus on: defining “story;” how to find a story; turning an incident into a story; and how to add the drama. New storytellers will discover how to start and experienced storytellers will find inspiration. Writing exercises and story sharing are a part of every class.
URL:https://jessicapiscitellirobinson.com/events/spring-story-workshops-week-1-drama/
CATEGORIES:Storytelling,Workshop
ATTACH;FMTTYPE=image/jpeg:https://jessicapiscitellirobinson.com/wp-content/uploads/2026/03/dram.jpg
END:VEVENT
END:VCALENDAR