BEGIN:VCALENDAR
VERSION:2.0
PRODID:-//Storyteller, Author, Keynote Speaker, &amp; Teacher - ECPv6.15.20//NONSGML v1.0//EN
CALSCALE:GREGORIAN
METHOD:PUBLISH
X-ORIGINAL-URL:https://jessicapiscitellirobinson.com
X-WR-CALDESC:Events for Storyteller, Author, Keynote Speaker, &amp; Teacher
REFRESH-INTERVAL;VALUE=DURATION:PT1H
X-Robots-Tag:noindex
X-PUBLISHED-TTL:PT1H
BEGIN:VTIMEZONE
TZID:America/New_York
BEGIN:DAYLIGHT
TZOFFSETFROM:-0500
TZOFFSETTO:-0400
TZNAME:EDT
DTSTART:20250309T070000
END:DAYLIGHT
BEGIN:STANDARD
TZOFFSETFROM:-0400
TZOFFSETTO:-0500
TZNAME:EST
DTSTART:20251102T060000
END:STANDARD
BEGIN:DAYLIGHT
TZOFFSETFROM:-0500
TZOFFSETTO:-0400
TZNAME:EDT
DTSTART:20260308T070000
END:DAYLIGHT
BEGIN:STANDARD
TZOFFSETFROM:-0400
TZOFFSETTO:-0500
TZNAME:EST
DTSTART:20261101T060000
END:STANDARD
BEGIN:DAYLIGHT
TZOFFSETFROM:-0500
TZOFFSETTO:-0400
TZNAME:EDT
DTSTART:20270314T070000
END:DAYLIGHT
BEGIN:STANDARD
TZOFFSETFROM:-0400
TZOFFSETTO:-0500
TZNAME:EST
DTSTART:20271107T060000
END:STANDARD
END:VTIMEZONE
BEGIN:VEVENT
DTSTART;TZID=America/New_York:20260209T190000
DTEND;TZID=America/New_York:20260209T210000
DTSTAMP:20260423T183810
CREATED:20260201T152414Z
LAST-MODIFIED:20260204T190929Z
UID:719-1770663600-1770670800@jessicapiscitellirobinson.com
SUMMARY:Braided\, Fractured\, and Re-Imagined Stories
DESCRIPTION:Register HERE for:\nBraided\, Fractured\, and Re-imagined Stories\nThink outside the story box. In this interactive workshop\, participants will take stories they know well and twist them\, reshaping them into something new and different. After defining “fractured” and “braided\,” we’ll focus on when and why to reshape a story. This is a broad workshop meant to inspire writers to explore different ideas for story crafting. \nThe workshop will start with a lesson\, followed by time for attendees to write and work on a story\, and end with story sharing. This workshop will be recorded and all registrants will receive the recording to review after the workshop concludes. \nThis workshop is led by Better Said Than Done Executive Director Jessica Piscitelli Robinson. \nJessica will be leading a workshop on Braiding Stories on February 16th. Register here. \nThe Fractured Fairytales and Re-Imagined Stories Workshop will be on February 23rd. Register here.
URL:https://jessicapiscitellirobinson.com/events/braided-fractured-and-re-imagined-stories/
CATEGORIES:Storytelling,Workshop
ATTACH;FMTTYPE=image/jpeg:https://jessicapiscitellirobinson.com/wp-content/uploads/2026/02/Winter_Workshops-Wk2.jpg
END:VEVENT
BEGIN:VEVENT
DTSTART;TZID=America/New_York:20260216T190000
DTEND;TZID=America/New_York:20260216T210000
DTSTAMP:20260423T183810
CREATED:20260201T153312Z
LAST-MODIFIED:20260201T153312Z
UID:724-1771268400-1771275600@jessicapiscitellirobinson.com
SUMMARY:Braiding Stories
DESCRIPTION:You can register to take all 5 weeks of winter workshops (including this one) starting on February 2\, and running through March 2\, HERE. \nOr\, register HERE for:\nBraided Storytelling\nIn this workshop\, we’ll define “braided stories\,” discuss different types of braided tales\, and also when and if it makes sense to intertwine multiple stories. Then we’ll dig into some techniques on how to craft a braided story. Participants will spend some time working and weaving their own tales\, and then will be given the chance to share a story. This workshop will be recorded and all registrants will receive the recording to review after the workshop concludes. \nThis workshop is led by Better Said Than Done Executive Director Jessica Piscitelli Robinson.
URL:https://jessicapiscitellirobinson.com/events/braiding-stories/
CATEGORIES:Workshop
ATTACH;FMTTYPE=image/jpeg:https://jessicapiscitellirobinson.com/wp-content/uploads/2026/02/Winter_Workshops-Wk3.jpg
END:VEVENT
BEGIN:VEVENT
DTSTART;TZID=America/New_York:20260221T180000
DTEND;TZID=America/New_York:20260221T200000
DTSTAMP:20260423T183810
CREATED:20260218T172540Z
LAST-MODIFIED:20260218T173406Z
UID:740-1771696800-1771704000@jessicapiscitellirobinson.com
SUMMARY:Stories about Games\, Cheats\, and Tricks
DESCRIPTION:Details and Tickets Here: bettersaidthandone.org/player-stories-about-games/ \nI am so looking forward to emceeing this show! \nOn February 21\, join us at Clare and Don’s Beach Shack for “Player: Stories about games\, cheats\, and tricks\,” with emcee Jessica Robinson and storytellers Catherine Calvin\, J.R. Denson\, Bonnie Gardner\, Rajesh Mirchandani\, Ravi Pimplaskar\, and Jack Scheer. \nClare and Don’s Beach Shack is located at 130 N Washington St\, Falls Church\, VA 22046. A full dinner and bar menu is available for purchase before and during the show. There is plenty of free parking nearby\, including a parking garage behind Clare and Don’s.
URL:https://jessicapiscitellirobinson.com/events/stories-about-games-cheats-and-tricks/
LOCATION:Clare & Don’s Beach Shack\, 130 N Washington Street\, Falls Church\, VA\, 22046\, United States
CATEGORIES:Storytelling
ATTACH;FMTTYPE=image/jpeg:https://jessicapiscitellirobinson.com/wp-content/uploads/2026/02/02_21_IGv2.jpg
END:VEVENT
BEGIN:VEVENT
DTSTART;TZID=America/New_York:20260223T190000
DTEND;TZID=America/New_York:20260223T210000
DTSTAMP:20260423T183810
CREATED:20260201T153734Z
LAST-MODIFIED:20260201T153734Z
UID:730-1771873200-1771880400@jessicapiscitellirobinson.com
SUMMARY:Fractured and Re-Imagined Stories
DESCRIPTION:Register HERE for:\nFractured and Re-imagined Stories\nThink outside the story box. In this interactive workshop\, participants will take a fairytale they know well and turn it on it’s head\, take a well-known story and make it their own. In Fractured and Re-imagined\, students will learn how to change\, fracture and imagine a fresh take on a classic tale. This is a broad workshop meant to inspire writers to explore different ideas for story crafting. \nThe workshop will start with a lesson\, followed by time for attendees to write and work on a story\, and end with story sharing. This workshop will be recorded and all registrants will receive the recording to review after the workshop concludes. \nThis workshop is led by Better Said Than Done Executive Director Jessica Piscitelli Robinson.
URL:https://jessicapiscitellirobinson.com/events/fractured-and-re-imagined-stories/
CATEGORIES:Workshop
ATTACH;FMTTYPE=image/jpeg:https://jessicapiscitellirobinson.com/wp-content/uploads/2026/02/Winter_Workshops-Wk4.jpg
END:VEVENT
END:VCALENDAR