BEGIN:VCALENDAR
VERSION:2.0
PRODID:-//Storyteller, Author, Keynote Speaker, &amp; Teacher - ECPv6.15.20//NONSGML v1.0//EN
CALSCALE:GREGORIAN
METHOD:PUBLISH
X-WR-CALNAME:Storyteller, Author, Keynote Speaker, &amp; Teacher
X-ORIGINAL-URL:https://jessicapiscitellirobinson.com
X-WR-CALDESC:Events for Storyteller, Author, Keynote Speaker, &amp; Teacher
REFRESH-INTERVAL;VALUE=DURATION:PT1H
X-Robots-Tag:noindex
X-PUBLISHED-TTL:PT1H
BEGIN:VTIMEZONE
TZID:America/New_York
BEGIN:DAYLIGHT
TZOFFSETFROM:-0500
TZOFFSETTO:-0400
TZNAME:EDT
DTSTART:20230312T070000
END:DAYLIGHT
BEGIN:STANDARD
TZOFFSETFROM:-0400
TZOFFSETTO:-0500
TZNAME:EST
DTSTART:20231105T060000
END:STANDARD
BEGIN:DAYLIGHT
TZOFFSETFROM:-0500
TZOFFSETTO:-0400
TZNAME:EDT
DTSTART:20240310T070000
END:DAYLIGHT
BEGIN:STANDARD
TZOFFSETFROM:-0400
TZOFFSETTO:-0500
TZNAME:EST
DTSTART:20241103T060000
END:STANDARD
BEGIN:DAYLIGHT
TZOFFSETFROM:-0500
TZOFFSETTO:-0400
TZNAME:EDT
DTSTART:20250309T070000
END:DAYLIGHT
BEGIN:STANDARD
TZOFFSETFROM:-0400
TZOFFSETTO:-0500
TZNAME:EST
DTSTART:20251102T060000
END:STANDARD
END:VTIMEZONE
BEGIN:VEVENT
DTSTART;TZID=America/New_York:20240921T130000
DTEND;TZID=America/New_York:20240921T220000
DTSTAMP:20260425T234303
CREATED:20240908T183344Z
LAST-MODIFIED:20240908T183512Z
UID:254-1726923600-1726956000@jessicapiscitellirobinson.com
SUMMARY:Campfire Stories
DESCRIPTION:On September 21st\, Jennifer Hine and I will be telling family friendly stories to a group of campers at a private camp-out event. We’ll be telling some classic campfire stories as well as a few fun original tales. \nIt’s always a good time when fire and marshmallows and stories mix! \n  \nJessica Piscitelli Robinson tells stories. Some are scary\, some are funny. Some are family friendly\, some are not. Some are true and others are outright lies. \nContact jessica@bettersaidthandone.com next time you need a storyteller. Everybody needs a storyteller.
URL:https://jessicapiscitellirobinson.com/events/campfire-stories/
LOCATION:DC
CATEGORIES:Family Events
ATTACH;FMTTYPE=image/jpeg:https://jessicapiscitellirobinson.com/wp-content/uploads/2024/09/Campfire-Stories.jpg
END:VEVENT
BEGIN:VEVENT
DTSTART;TZID=America/New_York:20240912T190000
DTEND;TZID=America/New_York:20240912T203000
DTSTAMP:20260425T234303
CREATED:20240817T191156Z
LAST-MODIFIED:20240908T180604Z
UID:158-1726167600-1726173000@jessicapiscitellirobinson.com
SUMMARY:Mirrors and Magic: True Stories of Wonder Storytelling Show
DESCRIPTION:On September 12\, 2024\, Carol Moore\, Laura Packer\, and Jessica Robinson will bring a little magic to a night of true storytelling. This 90 minute show will feature stories full of wonder\, and truth\, though not necessarily from true events. \nThis free storytelling show will take place at The Old Town Hall\, 3999 University Dr. Fairfax\, VA. The show starts at 7:00pm and doors open at 6:30pm. If you cannot attend in-person\, there will be a live-stream to YouTube. \nYou do not need to register to attend in-person but will need to register to get the link to the live-stream. \nMirrors and Magic
URL:https://jessicapiscitellirobinson.com/events/mirrors-and-magic-storytelling-show/
LOCATION:Old Town Hall\, 3999 University Drive\, Fairfax\, VA\, 22030\, United States
CATEGORIES:Storytelling
ATTACH;FMTTYPE=image/jpeg:https://jessicapiscitellirobinson.com/wp-content/uploads/2024/08/09_12_24_IG2.jpg
END:VEVENT
BEGIN:VEVENT
DTSTART;TZID=America/New_York:20240904T190000
DTEND;TZID=America/New_York:20240904T210000
DTSTAMP:20260425T234303
CREATED:20240817T184305Z
LAST-MODIFIED:20240817T192137Z
UID:155-1725476400-1725483600@jessicapiscitellirobinson.com
SUMMARY:Your Story\, Your Life Workshop 1
DESCRIPTION:Your Story\, Your Life Workshop Series – The first of 5 two hour classes\, over five weeks\, to help you develop secondary characters\, dialogue\, non-linear structure\, enhanced performance skills\, and stories of varying lengths to be performed on stage. Students will be able to workshop and hone at least one\, and possibly several\, stories over the course of 5 weeks. Workshops will be on Zoom\, taking place on Wednesdays from 7:00 PM – 9:00 PM ET. $199 per 5 classes per registrant.
URL:https://jessicapiscitellirobinson.com/events/your-story-your-life-workshop-1/
LOCATION:Zoom
CATEGORIES:Workshop
END:VEVENT
END:VCALENDAR