BEGIN:VCALENDAR
VERSION:2.0
PRODID:-//Storyteller, Author, Keynote Speaker, &amp; Teacher - ECPv6.15.20//NONSGML v1.0//EN
CALSCALE:GREGORIAN
METHOD:PUBLISH
X-WR-CALNAME:Storyteller, Author, Keynote Speaker, &amp; Teacher
X-ORIGINAL-URL:https://jessicapiscitellirobinson.com
X-WR-CALDESC:Events for Storyteller, Author, Keynote Speaker, &amp; Teacher
REFRESH-INTERVAL;VALUE=DURATION:PT1H
X-Robots-Tag:noindex
X-PUBLISHED-TTL:PT1H
BEGIN:VTIMEZONE
TZID:America/New_York
BEGIN:DAYLIGHT
TZOFFSETFROM:-0500
TZOFFSETTO:-0400
TZNAME:EDT
DTSTART:20240310T070000
END:DAYLIGHT
BEGIN:STANDARD
TZOFFSETFROM:-0400
TZOFFSETTO:-0500
TZNAME:EST
DTSTART:20241103T060000
END:STANDARD
BEGIN:DAYLIGHT
TZOFFSETFROM:-0500
TZOFFSETTO:-0400
TZNAME:EDT
DTSTART:20250309T070000
END:DAYLIGHT
BEGIN:STANDARD
TZOFFSETFROM:-0400
TZOFFSETTO:-0500
TZNAME:EST
DTSTART:20251102T060000
END:STANDARD
BEGIN:DAYLIGHT
TZOFFSETFROM:-0500
TZOFFSETTO:-0400
TZNAME:EDT
DTSTART:20260308T070000
END:DAYLIGHT
BEGIN:STANDARD
TZOFFSETFROM:-0400
TZOFFSETTO:-0500
TZNAME:EST
DTSTART:20261101T060000
END:STANDARD
END:VTIMEZONE
BEGIN:VEVENT
DTSTART;TZID=America/New_York:20251216T200000
DTEND;TZID=America/New_York:20251216T210000
DTSTAMP:20260424T025826
CREATED:20251130T160458Z
LAST-MODIFIED:20251130T160458Z
UID:689-1765915200-1765918800@jessicapiscitellirobinson.com
SUMMARY:Yuletide Folly with SFAP
DESCRIPTION:After much coaxing and a little begging\, I finally relented and agreed to tell a story on the end of year special produced by my best frenemy Claire Hennessy and her better half Regina Stoops\, the duo at the helm of the West Coast’s answer to Better Said Than Done – Six Feet Apart productions (SFAP). \nI joke\, as that is our way (Claire and I publicly roast each other daily) but the show will be fantastic – not only because I’m proud of the story I shared. The show is pre-recorded\, but the video premieres on Youtube on December 16th. \nWatch Party\nTuesday Dec 16th at 5pm PT/ 8pm ET\n\nLink to register for free Watch Party\nhttps://holidayhijinksdec16.eventbrite.com
URL:https://jessicapiscitellirobinson.com/events/yuletide-folly-with-sfap/
CATEGORIES:Storytelling
ATTACH;FMTTYPE=image/jpeg:https://jessicapiscitellirobinson.com/wp-content/uploads/2025/11/Hijinks_WATCH_EVT.jpg
END:VEVENT
END:VCALENDAR