BEGIN:VCALENDAR
VERSION:2.0
PRODID:-//Storyteller, Author, Keynote Speaker, &amp; Teacher - ECPv6.15.20//NONSGML v1.0//EN
CALSCALE:GREGORIAN
METHOD:PUBLISH
X-WR-CALNAME:Storyteller, Author, Keynote Speaker, &amp; Teacher
X-ORIGINAL-URL:https://jessicapiscitellirobinson.com
X-WR-CALDESC:Events for Storyteller, Author, Keynote Speaker, &amp; Teacher
REFRESH-INTERVAL;VALUE=DURATION:PT1H
X-Robots-Tag:noindex
X-PUBLISHED-TTL:PT1H
BEGIN:VTIMEZONE
TZID:America/New_York
BEGIN:DAYLIGHT
TZOFFSETFROM:-0500
TZOFFSETTO:-0400
TZNAME:EDT
DTSTART:20240310T070000
END:DAYLIGHT
BEGIN:STANDARD
TZOFFSETFROM:-0400
TZOFFSETTO:-0500
TZNAME:EST
DTSTART:20241103T060000
END:STANDARD
BEGIN:DAYLIGHT
TZOFFSETFROM:-0500
TZOFFSETTO:-0400
TZNAME:EDT
DTSTART:20250309T070000
END:DAYLIGHT
BEGIN:STANDARD
TZOFFSETFROM:-0400
TZOFFSETTO:-0500
TZNAME:EST
DTSTART:20251102T060000
END:STANDARD
BEGIN:DAYLIGHT
TZOFFSETFROM:-0500
TZOFFSETTO:-0400
TZNAME:EDT
DTSTART:20260308T070000
END:DAYLIGHT
BEGIN:STANDARD
TZOFFSETFROM:-0400
TZOFFSETTO:-0500
TZNAME:EST
DTSTART:20261101T060000
END:STANDARD
END:VTIMEZONE
BEGIN:VEVENT
DTSTART;TZID=America/New_York:20251009T200000
DTEND;TZID=America/New_York:20251009T213000
DTSTAMP:20260424T071226
CREATED:20250924T174210Z
LAST-MODIFIED:20250924T174210Z
UID:617-1760040000-1760045400@jessicapiscitellirobinson.com
SUMMARY:Otherworldly Stories
DESCRIPTION:I am looking forward to emceeing this virtual storytelling show. Join me\, and Better Said Than Done\, on Zoom for some Otherworldly Stories. \nOctober 9th\, 2025\, at 8:00pm Eastern / 5:00pm Pacific for Otherworldly Stories\, with storytellers Norm Brecke\, Karen Golden\, Steve Henegar\, Tobey Ishii Anderson\, Andy Russell\, and Hope Wilder. \nTickets\, from $5\, here.
URL:https://jessicapiscitellirobinson.com/events/otherworldly-stories/
CATEGORIES:Storytelling
ATTACH;FMTTYPE=image/jpeg:https://jessicapiscitellirobinson.com/wp-content/uploads/2025/09/10_09_IG.jpg
END:VEVENT
END:VCALENDAR