BEGIN:VCALENDAR
VERSION:2.0
PRODID:-//Storyteller, Author, Keynote Speaker, &amp; Teacher - ECPv6.15.20//NONSGML v1.0//EN
CALSCALE:GREGORIAN
METHOD:PUBLISH
X-ORIGINAL-URL:https://jessicapiscitellirobinson.com
X-WR-CALDESC:Events for Storyteller, Author, Keynote Speaker, &amp; Teacher
REFRESH-INTERVAL;VALUE=DURATION:PT1H
X-Robots-Tag:noindex
X-PUBLISHED-TTL:PT1H
BEGIN:VTIMEZONE
TZID:America/New_York
BEGIN:DAYLIGHT
TZOFFSETFROM:-0500
TZOFFSETTO:-0400
TZNAME:EDT
DTSTART:20240310T070000
END:DAYLIGHT
BEGIN:STANDARD
TZOFFSETFROM:-0400
TZOFFSETTO:-0500
TZNAME:EST
DTSTART:20241103T060000
END:STANDARD
BEGIN:DAYLIGHT
TZOFFSETFROM:-0500
TZOFFSETTO:-0400
TZNAME:EDT
DTSTART:20250309T070000
END:DAYLIGHT
BEGIN:STANDARD
TZOFFSETFROM:-0400
TZOFFSETTO:-0500
TZNAME:EST
DTSTART:20251102T060000
END:STANDARD
BEGIN:DAYLIGHT
TZOFFSETFROM:-0500
TZOFFSETTO:-0400
TZNAME:EDT
DTSTART:20260308T070000
END:DAYLIGHT
BEGIN:STANDARD
TZOFFSETFROM:-0400
TZOFFSETTO:-0500
TZNAME:EST
DTSTART:20261101T060000
END:STANDARD
END:VTIMEZONE
BEGIN:VEVENT
DTSTART;TZID=America/New_York:20250918T200000
DTEND;TZID=America/New_York:20250918T210000
DTSTAMP:20260424T175908
CREATED:20250813T193005Z
LAST-MODIFIED:20250911T180635Z
UID:583-1758225600-1758229200@jessicapiscitellirobinson.com
SUMMARY:Better Said Than Done Online Storytelling Show
DESCRIPTION:Just saving the date for my favorite storytelling show. \nJoin Better Said Than Done storytelling on September 18\, 2025\, for Lesson Learned: Stories of Teachable Moments\, with emcee Chetter Galloway and storytellers Clint Atwater\, Roopa Mohan\, Elisa Pearman\, Laura Simms\, and Patti Smith.\n\n\n$15 Suggested/$5 MinimumAll Proceeds Split Between Producer and Storytellers\nIf you miss it live on Zoom\, you can watch the recording on Youtube.
URL:https://jessicapiscitellirobinson.com/events/better-said-than-done-online-storytelling-show/
CATEGORIES:Storytelling
ATTACH;FMTTYPE=image/jpeg:https://jessicapiscitellirobinson.com/wp-content/uploads/2025/08/09_18_IG.jpg
END:VEVENT
END:VCALENDAR