BEGIN:VCALENDAR
VERSION:2.0
PRODID:-//Storyteller, Author, Keynote Speaker, &amp; Teacher - ECPv6.15.20//NONSGML v1.0//EN
CALSCALE:GREGORIAN
METHOD:PUBLISH
X-WR-CALNAME:Storyteller, Author, Keynote Speaker, &amp; Teacher
X-ORIGINAL-URL:https://jessicapiscitellirobinson.com
X-WR-CALDESC:Events for Storyteller, Author, Keynote Speaker, &amp; Teacher
REFRESH-INTERVAL;VALUE=DURATION:PT1H
X-Robots-Tag:noindex
X-PUBLISHED-TTL:PT1H
BEGIN:VTIMEZONE
TZID:America/New_York
BEGIN:DAYLIGHT
TZOFFSETFROM:-0500
TZOFFSETTO:-0400
TZNAME:EDT
DTSTART:20240310T070000
END:DAYLIGHT
BEGIN:STANDARD
TZOFFSETFROM:-0400
TZOFFSETTO:-0500
TZNAME:EST
DTSTART:20241103T060000
END:STANDARD
BEGIN:DAYLIGHT
TZOFFSETFROM:-0500
TZOFFSETTO:-0400
TZNAME:EDT
DTSTART:20250309T070000
END:DAYLIGHT
BEGIN:STANDARD
TZOFFSETFROM:-0400
TZOFFSETTO:-0500
TZNAME:EST
DTSTART:20251102T060000
END:STANDARD
BEGIN:DAYLIGHT
TZOFFSETFROM:-0500
TZOFFSETTO:-0400
TZNAME:EDT
DTSTART:20260308T070000
END:DAYLIGHT
BEGIN:STANDARD
TZOFFSETFROM:-0400
TZOFFSETTO:-0500
TZNAME:EST
DTSTART:20261101T060000
END:STANDARD
END:VTIMEZONE
BEGIN:VEVENT
DTSTART;TZID=America/New_York:20250814T193000
DTEND;TZID=America/New_York:20250814T210000
DTSTAMP:20260424T144113
CREATED:20250722T162302Z
LAST-MODIFIED:20250722T162355Z
UID:520-1755199800-1755205200@jessicapiscitellirobinson.com
SUMMARY:Reimagining Stories Workshop
DESCRIPTION:A Free Workshop led by Jessica Robinson for the Story Center at the Mid-Continental Public Library \nIn this interactive workshop with Jessica Robinson\, participants will take stories they know well and twist them\, reshaping them into something new and different. Students will learn how the terms “fractured” and “braided” apply to stories\, when and why to reshape a story\, and practical steps to twist a tale. This class is part of the Oral Storytelling Certificate Program as a storytelling elective. This program will be held virtually using Zoom. Registration with a valid email address is required to receive the Zoom link. All start times are Central Time. \nFREE but you must register here: \nwww.mymcpl.org/events/109084/braided-fractured-and-re-imagined-stories-zoom
URL:https://jessicapiscitellirobinson.com/events/reimagining-stories-workshop/
CATEGORIES:Free Events,Storytelling,Workshop
ATTACH;FMTTYPE=image/jpeg:https://jessicapiscitellirobinson.com/wp-content/uploads/2025/07/08_14_MCPL-copy1.jpg
END:VEVENT
END:VCALENDAR