BEGIN:VCALENDAR
VERSION:2.0
PRODID:-//Storyteller, Author, Keynote Speaker, &amp; Teacher - ECPv6.15.20//NONSGML v1.0//EN
CALSCALE:GREGORIAN
METHOD:PUBLISH
X-ORIGINAL-URL:https://jessicapiscitellirobinson.com
X-WR-CALDESC:Events for Storyteller, Author, Keynote Speaker, &amp; Teacher
REFRESH-INTERVAL;VALUE=DURATION:PT1H
X-Robots-Tag:noindex
X-PUBLISHED-TTL:PT1H
BEGIN:VTIMEZONE
TZID:America/New_York
BEGIN:DAYLIGHT
TZOFFSETFROM:-0500
TZOFFSETTO:-0400
TZNAME:EDT
DTSTART:20250309T070000
END:DAYLIGHT
BEGIN:STANDARD
TZOFFSETFROM:-0400
TZOFFSETTO:-0500
TZNAME:EST
DTSTART:20251102T060000
END:STANDARD
BEGIN:DAYLIGHT
TZOFFSETFROM:-0500
TZOFFSETTO:-0400
TZNAME:EDT
DTSTART:20260308T070000
END:DAYLIGHT
BEGIN:STANDARD
TZOFFSETFROM:-0400
TZOFFSETTO:-0500
TZNAME:EST
DTSTART:20261101T060000
END:STANDARD
BEGIN:DAYLIGHT
TZOFFSETFROM:-0500
TZOFFSETTO:-0400
TZNAME:EDT
DTSTART:20270314T070000
END:DAYLIGHT
BEGIN:STANDARD
TZOFFSETFROM:-0400
TZOFFSETTO:-0500
TZNAME:EST
DTSTART:20271107T060000
END:STANDARD
END:VTIMEZONE
BEGIN:VEVENT
DTSTART;TZID=America/New_York:20260314T150000
DTEND;TZID=America/New_York:20260314T163000
DTSTAMP:20260423T141707
CREATED:20260218T174430Z
LAST-MODIFIED:20260218T174430Z
UID:750-1773500400-1773505800@jessicapiscitellirobinson.com
SUMMARY:Abigail: Founding Mother
DESCRIPTION:To be clear\, I am not performing at this event\, but I will be introducing Mrs. Abigail Adams to Fairfax\, VA. And I did have a hand in arranging her visit. Megan Wells is a powerhouse\, just like the women she’s portraying. Do not miss seeing this FREE event! \nDetails here:  bettersaidthandone.org/abigail-adams-founding-mother/\nRegistration not required. Just show up and enjoy! \nIn Abigail: Founding Mother\, national award-winning actor and storyteller\, Megan Wells\, brings Abigail Adams to life. In this humorous and historically accurate portrayal\, Megan Wells vivifies the full measure of Abigail’s contribution to our democracy.  Behind the scenes but very firm\, Abigail rode the risky edge of feminine power.  Not too much\, not too little – choose your words carefully – just right.  Relevant\, moving and wry with wit\, Megan’s Abigail awakens new perspectives of how we must “remember the ladies.” \nAbigail: Founding Mother\nMarch 14\, 2026\, 3:00pm – 4:00pm\nHistoric Blenheim\, 3610 Blenheim Blvd\, Fairfax\, VA 22030\nFree\nIntended for ages 12 and up. \nThank you to the Fairfax City Commission on the Arts for making this program possible.\n \nAbigail’s friend\, Eliza Hamilton\, will be appearing at The Women’s Storytelling Festival\, in Fairfax City\, March 19 – 22\, 2025. They are both on the most intimate terms with Ms. Wells.
URL:https://jessicapiscitellirobinson.com/events/abigail-founding-mother/
CATEGORIES:Storytelling
ATTACH;FMTTYPE=image/jpeg:https://jessicapiscitellirobinson.com/wp-content/uploads/2026/02/03_14_IGvCOA.jpg
END:VEVENT
END:VCALENDAR