BEGIN:VCALENDAR
VERSION:2.0
PRODID:-//Storyteller, Author, Keynote Speaker, &amp; Teacher - ECPv6.15.20//NONSGML v1.0//EN
CALSCALE:GREGORIAN
METHOD:PUBLISH
X-ORIGINAL-URL:https://jessicapiscitellirobinson.com
X-WR-CALDESC:Events for Storyteller, Author, Keynote Speaker, &amp; Teacher
REFRESH-INTERVAL;VALUE=DURATION:PT1H
X-Robots-Tag:noindex
X-PUBLISHED-TTL:PT1H
BEGIN:VTIMEZONE
TZID:America/New_York
BEGIN:DAYLIGHT
TZOFFSETFROM:-0500
TZOFFSETTO:-0400
TZNAME:EDT
DTSTART:20250309T070000
END:DAYLIGHT
BEGIN:STANDARD
TZOFFSETFROM:-0400
TZOFFSETTO:-0500
TZNAME:EST
DTSTART:20251102T060000
END:STANDARD
BEGIN:DAYLIGHT
TZOFFSETFROM:-0500
TZOFFSETTO:-0400
TZNAME:EDT
DTSTART:20260308T070000
END:DAYLIGHT
BEGIN:STANDARD
TZOFFSETFROM:-0400
TZOFFSETTO:-0500
TZNAME:EST
DTSTART:20261101T060000
END:STANDARD
BEGIN:DAYLIGHT
TZOFFSETFROM:-0500
TZOFFSETTO:-0400
TZNAME:EDT
DTSTART:20270314T070000
END:DAYLIGHT
BEGIN:STANDARD
TZOFFSETFROM:-0400
TZOFFSETTO:-0500
TZNAME:EST
DTSTART:20271107T060000
END:STANDARD
END:VTIMEZONE
BEGIN:VEVENT
DTSTART;TZID=America/New_York:20260502T150000
DTEND;TZID=America/New_York:20260502T200000
DTSTAMP:20260423T110858
CREATED:20260422T132829Z
LAST-MODIFIED:20260422T132829Z
UID:824-1777734000-1777752000@jessicapiscitellirobinson.com
SUMMARY:The VASA Gathering Online
DESCRIPTION:VASA 2026 Gathering! \n \nThe Virginia Storytelling Alliance (VASA) annual Gathering is online for 2026\, making it easier than ever for members across the state (and beyond) to join us for an afternoon and evening of stories\, connection\, and celebration. \nThis special online edition of the Gathering will include a story swap\, our annual meeting\, and an evening performance from featured storyteller Bil Lepp. \nVASA Members: $10\nNon-Members: $20 \nRegister Here\nOr go to: https://www.eventbrite.com/e/vasa-2026-gathering-tickets-1980830430139 \n Event Schedule (All Online) \nStory Swap\n3:00–5:00 pm\nBring a story\, or simply come to listen. All levels welcome. \nBreak \nAnnual Meeting\n5:30–6:30 pm\nUpdates\, elections\, and a look at what’s ahead for VASA. \nBreak \nEvening Storytelling Performance\n7:00–8:00 pm\nFeatured Teller: Bil Lepp \nVASA Members: $10\nNon-Members: $20
URL:https://jessicapiscitellirobinson.com/events/the-vasa-gathering-online/
CATEGORIES:Storytelling Conference
ATTACH;FMTTYPE=image/jpeg:https://jessicapiscitellirobinson.com/wp-content/uploads/2026/04/Gathering-Sq-copy-e1776864567470.jpg
END:VEVENT
BEGIN:VEVENT
DTSTART;TZID=America/New_York:20260723T160000
DTEND;TZID=America/New_York:20260726T110000
DTSTAMP:20260423T110858
CREATED:20260422T130713Z
LAST-MODIFIED:20260422T130713Z
UID:819-1784822400-1785063600@jessicapiscitellirobinson.com
SUMMARY:NSN Conference 2026
DESCRIPTION:I will be telling a story alongside Alton Chung\, Lyn Ford\, and Miriam Nadel in a presentation on Saturday\, July 25th\, at 4:00pm CT. I will also be there for all the stories and the community and the NSN Annual meeting and the ORACLE Awards. I hope you will come too. The NSN Conference is always fabulous. \nDetails and Registration Here\nI will also be running the video stream for the virtual pass\, alongside Heather Forest. I have been told that the quality of the live stream (and subsequent video recordings) are very good. If you’ve watched the Women’s Storytelling Festival\, or the past two years of the NSN Conference\, you’ll know the quality you can expect. So\, come to Texas\, or watch online\, but do NOT miss this conference!
URL:https://jessicapiscitellirobinson.com/events/nsn-conference-2026/
CATEGORIES:Storytelling,Storytelling Conference
ATTACH;FMTTYPE=image/png:https://jessicapiscitellirobinson.com/wp-content/uploads/2026/04/NSN-2026-Website-01-1.png
END:VEVENT
END:VCALENDAR