BEGIN:VCALENDAR
VERSION:2.0
PRODID:-//Storyteller, Author, Keynote Speaker, &amp; Teacher - ECPv6.15.20//NONSGML v1.0//EN
CALSCALE:GREGORIAN
METHOD:PUBLISH
X-WR-CALNAME:Storyteller, Author, Keynote Speaker, &amp; Teacher
X-ORIGINAL-URL:https://jessicapiscitellirobinson.com
X-WR-CALDESC:Events for Storyteller, Author, Keynote Speaker, &amp; Teacher
REFRESH-INTERVAL;VALUE=DURATION:PT1H
X-Robots-Tag:noindex
X-PUBLISHED-TTL:PT1H
BEGIN:VTIMEZONE
TZID:America/New_York
BEGIN:DAYLIGHT
TZOFFSETFROM:-0500
TZOFFSETTO:-0400
TZNAME:EDT
DTSTART:20230312T070000
END:DAYLIGHT
BEGIN:STANDARD
TZOFFSETFROM:-0400
TZOFFSETTO:-0500
TZNAME:EST
DTSTART:20231105T060000
END:STANDARD
BEGIN:DAYLIGHT
TZOFFSETFROM:-0500
TZOFFSETTO:-0400
TZNAME:EDT
DTSTART:20240310T070000
END:DAYLIGHT
BEGIN:STANDARD
TZOFFSETFROM:-0400
TZOFFSETTO:-0500
TZNAME:EST
DTSTART:20241103T060000
END:STANDARD
BEGIN:DAYLIGHT
TZOFFSETFROM:-0500
TZOFFSETTO:-0400
TZNAME:EDT
DTSTART:20250309T070000
END:DAYLIGHT
BEGIN:STANDARD
TZOFFSETFROM:-0400
TZOFFSETTO:-0500
TZNAME:EST
DTSTART:20251102T060000
END:STANDARD
BEGIN:DAYLIGHT
TZOFFSETFROM:-0500
TZOFFSETTO:-0400
TZNAME:EDT
DTSTART:20260308T070000
END:DAYLIGHT
BEGIN:STANDARD
TZOFFSETFROM:-0400
TZOFFSETTO:-0500
TZNAME:EST
DTSTART:20261101T060000
END:STANDARD
END:VTIMEZONE
BEGIN:VEVENT
DTSTART;TZID=America/New_York:20251030T180000
DTEND;TZID=America/New_York:20251030T200000
DTSTAMP:20260423T183819
CREATED:20250813T175825Z
LAST-MODIFIED:20250924T175026Z
UID:575-1761847200-1761854400@jessicapiscitellirobinson.com
SUMMARY:Scary Storytelling Workshop
DESCRIPTION:We’re gonna get a little scary at this next storytelling workshop at Franklin Park Arts Center. I mean\, it’s October 30th. We can’t just ignore the ghost in the room. \nWhether you want to work on crafting a personal story\, or a scary story\, this workshop will work for you. \nBring ideas for a 5-7 minute “scary” story to work on in this 90-minute class. Learn about character development\, story structure\, and how to build fear and dramatic tension into stories\, and then spend some time writing. A few participants will be able to share their stories with the class and help prepare you for our Storytelling Open Mic nights beginning in November. Instructor: Jessica Robinson\, Better Said Than Done storytellers. \nDetails and Registration Here
URL:https://jessicapiscitellirobinson.com/events/scary-storytelling-workshop/
LOCATION:Franklin Park Arts Center\, 36441 Blueridge View Lane\, Purcelville\, VA
CATEGORIES:Scary Stories,Storytelling,Workshop
ATTACH;FMTTYPE=image/jpeg:https://jessicapiscitellirobinson.com/wp-content/uploads/2025/08/10_FranklinPark_Workshop.jpg
END:VEVENT
BEGIN:VEVENT
DTSTART;TZID=America/New_York:20251024T180000
DTEND;TZID=America/New_York:20251024T200000
DTSTAMP:20260423T183819
CREATED:20250813T180609Z
LAST-MODIFIED:20250924T174839Z
UID:579-1761328800-1761336000@jessicapiscitellirobinson.com
SUMMARY:Family Friendly Frightening Stories
DESCRIPTION:Join me and some other wonderful entertainers at Franklin Park\, in Loudoun County\, VA\, for Halloween in the Park. I’ll be telling stories along the Trick-or-Treat Trail. \n\nJoin Better Said Than Done storytellers Jennifer Hine and Jessica Robinson for stories along the Trick or Treat Trail\, at Halloween in the Park\, at Franklin Park\, in Loudoun County\, VA. \n\nIn addition to storytelling\, there will be pumpkin decorating\, trick-or-treating\, games\, face painting\, live animals\, inflatables\, vendors and more! All for free.
URL:https://jessicapiscitellirobinson.com/events/family-friendly-frightening-stories/
LOCATION:Franklin Park\, 36441 Blueridge View Ln.\, Purcelville\, VA\, 20132-3565\, United States
CATEGORIES:Scary Stories,Storytelling
ATTACH;FMTTYPE=image/jpeg:https://jessicapiscitellirobinson.com/wp-content/uploads/2025/08/10_24_IG.jpg
END:VEVENT
BEGIN:VEVENT
DTSTART;TZID=America/New_York:20251022T190000
DTEND;TZID=America/New_York:20251022T203000
DTSTAMP:20260423T183819
CREATED:20250813T180044Z
LAST-MODIFIED:20250924T174550Z
UID:577-1761159600-1761165000@jessicapiscitellirobinson.com
SUMMARY:Ghost Stories at the DC Public Library
DESCRIPTION:On October 22\, join storytellers Silvana Clark\, J.R. Denson\, Jessica Robinson\, and Zach Wilks\, for a night of terrifying tales at the Haunted Library. \nBring snacks and hot beverages and join us on the First Floor of the MLK DC Public Library.\nDetails here. \nThis concert is FREE and open to the public\, but intended for a mature audience.
URL:https://jessicapiscitellirobinson.com/events/ghost-stories-at-the-dc-public-library/
LOCATION:VA
CATEGORIES:Scary Stories,Storytelling
ATTACH;FMTTYPE=image/jpeg:https://jessicapiscitellirobinson.com/wp-content/uploads/2025/08/10_22_IG.jpg
END:VEVENT
BEGIN:VEVENT
DTSTART;TZID=America/New_York:20241029T190000
DTEND;TZID=America/New_York:20241029T200000
DTSTAMP:20260423T183819
CREATED:20240924T143634Z
LAST-MODIFIED:20240927T161236Z
UID:299-1730228400-1730232000@jessicapiscitellirobinson.com
SUMMARY:Free and Frightening Storytelling
DESCRIPTION:Join Better Said Than Done storytellers J.R. Denson\, Bonnie Gardner\, and Jessica Robinson for a terrifying night of stories that will haunt you. \nHaunted Stories and Ghastly Tales\nFree and open to the public. Come and hear some terrifying tales – if you dare. \nStories are rated – old enough to drive or Metro home by yourself\, though you won’t want to be alone.
URL:https://jessicapiscitellirobinson.com/events/free-and-frightening-storytelling/
LOCATION:MLK DC Public Library\, 901 G Street NW\, Washington\, DC\, 20001\, United States
CATEGORIES:Free Events,Scary Stories,Storytelling
ATTACH;FMTTYPE=image/jpeg:https://jessicapiscitellirobinson.com/wp-content/uploads/2024/09/10_29_24_IG.jpg
END:VEVENT
END:VCALENDAR