BEGIN:VCALENDAR
VERSION:2.0
PRODID:-//Storyteller, Author, Keynote Speaker, &amp; Teacher - ECPv6.15.20//NONSGML v1.0//EN
CALSCALE:GREGORIAN
METHOD:PUBLISH
X-WR-CALNAME:Storyteller, Author, Keynote Speaker, &amp; Teacher
X-ORIGINAL-URL:https://jessicapiscitellirobinson.com
X-WR-CALDESC:Events for Storyteller, Author, Keynote Speaker, &amp; Teacher
REFRESH-INTERVAL;VALUE=DURATION:PT1H
X-Robots-Tag:noindex
X-PUBLISHED-TTL:PT1H
BEGIN:VTIMEZONE
TZID:America/New_York
BEGIN:DAYLIGHT
TZOFFSETFROM:-0500
TZOFFSETTO:-0400
TZNAME:EDT
DTSTART:20230312T070000
END:DAYLIGHT
BEGIN:STANDARD
TZOFFSETFROM:-0400
TZOFFSETTO:-0500
TZNAME:EST
DTSTART:20231105T060000
END:STANDARD
BEGIN:DAYLIGHT
TZOFFSETFROM:-0500
TZOFFSETTO:-0400
TZNAME:EDT
DTSTART:20240310T070000
END:DAYLIGHT
BEGIN:STANDARD
TZOFFSETFROM:-0400
TZOFFSETTO:-0500
TZNAME:EST
DTSTART:20241103T060000
END:STANDARD
BEGIN:DAYLIGHT
TZOFFSETFROM:-0500
TZOFFSETTO:-0400
TZNAME:EDT
DTSTART:20250309T070000
END:DAYLIGHT
BEGIN:STANDARD
TZOFFSETFROM:-0400
TZOFFSETTO:-0500
TZNAME:EST
DTSTART:20251102T060000
END:STANDARD
END:VTIMEZONE
BEGIN:VEVENT
DTSTART;TZID=America/New_York:20241025T180000
DTEND;TZID=America/New_York:20241025T200000
DTSTAMP:20260423T172434
CREATED:20240917T185818Z
LAST-MODIFIED:20240917T185818Z
UID:286-1729879200-1729886400@jessicapiscitellirobinson.com
SUMMARY:Halloween Stories in the Park
DESCRIPTION:Jennifer Hine and I are returning to Franklin Park\, in Purcelville\, to tell stories for Halloween in the Park! \nThis event is free for all ages and open to the public – and is so much fun! Come on out\, trick or treat\, see some wild animals\, listen to some stories\, and plan to have a fabulous time at Franklin Park! I know we will. \n \n \nJessica Robinson tells stories for all ages. If you’d like to book Jessica for a storytelling concert\, please make sure to include what age range is expected to attend.
URL:https://jessicapiscitellirobinson.com/events/halloween-stories-in-the-park/
LOCATION:Franklin Park\, 36441 Blueridge View Ln.\, Purcelville\, VA\, 20132-3565\, United States
CATEGORIES:Family Events,Family Friendly Storytelling
ATTACH;FMTTYPE=image/jpeg:https://jessicapiscitellirobinson.com/wp-content/uploads/2024/09/Halloween-copy.jpg
END:VEVENT
BEGIN:VEVENT
DTSTART;TZID=America/New_York:20240921T130000
DTEND;TZID=America/New_York:20240921T220000
DTSTAMP:20260423T172434
CREATED:20240908T183344Z
LAST-MODIFIED:20240908T183512Z
UID:254-1726923600-1726956000@jessicapiscitellirobinson.com
SUMMARY:Campfire Stories
DESCRIPTION:On September 21st\, Jennifer Hine and I will be telling family friendly stories to a group of campers at a private camp-out event. We’ll be telling some classic campfire stories as well as a few fun original tales. \nIt’s always a good time when fire and marshmallows and stories mix! \n  \nJessica Piscitelli Robinson tells stories. Some are scary\, some are funny. Some are family friendly\, some are not. Some are true and others are outright lies. \nContact jessica@bettersaidthandone.com next time you need a storyteller. Everybody needs a storyteller.
URL:https://jessicapiscitellirobinson.com/events/campfire-stories/
LOCATION:VA
CATEGORIES:Family Events
ATTACH;FMTTYPE=image/jpeg:https://jessicapiscitellirobinson.com/wp-content/uploads/2024/09/Campfire-Stories.jpg
END:VEVENT
END:VCALENDAR