BEGIN:VCALENDAR
VERSION:2.0
PRODID:-//Storyteller, Author, Keynote Speaker, &amp; Teacher - ECPv6.15.20//NONSGML v1.0//EN
CALSCALE:GREGORIAN
METHOD:PUBLISH
X-WR-CALNAME:Storyteller, Author, Keynote Speaker, &amp; Teacher
X-ORIGINAL-URL:https://jessicapiscitellirobinson.com
X-WR-CALDESC:Events for Storyteller, Author, Keynote Speaker, &amp; Teacher
REFRESH-INTERVAL;VALUE=DURATION:PT1H
X-Robots-Tag:noindex
X-PUBLISHED-TTL:PT1H
BEGIN:VTIMEZONE
TZID:America/New_York
BEGIN:DAYLIGHT
TZOFFSETFROM:-0500
TZOFFSETTO:-0400
TZNAME:EDT
DTSTART:20230312T070000
END:DAYLIGHT
BEGIN:STANDARD
TZOFFSETFROM:-0400
TZOFFSETTO:-0500
TZNAME:EST
DTSTART:20231105T060000
END:STANDARD
BEGIN:DAYLIGHT
TZOFFSETFROM:-0500
TZOFFSETTO:-0400
TZNAME:EDT
DTSTART:20240310T070000
END:DAYLIGHT
BEGIN:STANDARD
TZOFFSETFROM:-0400
TZOFFSETTO:-0500
TZNAME:EST
DTSTART:20241103T060000
END:STANDARD
BEGIN:DAYLIGHT
TZOFFSETFROM:-0500
TZOFFSETTO:-0400
TZNAME:EDT
DTSTART:20250309T070000
END:DAYLIGHT
BEGIN:STANDARD
TZOFFSETFROM:-0400
TZOFFSETTO:-0500
TZNAME:EST
DTSTART:20251102T060000
END:STANDARD
BEGIN:DAYLIGHT
TZOFFSETFROM:-0500
TZOFFSETTO:-0400
TZNAME:EDT
DTSTART:20260308T070000
END:DAYLIGHT
BEGIN:STANDARD
TZOFFSETFROM:-0400
TZOFFSETTO:-0500
TZNAME:EST
DTSTART:20261101T060000
END:STANDARD
END:VTIMEZONE
BEGIN:VEVENT
DTSTART;TZID=America/New_York:20251110T190000
DTEND;TZID=America/New_York:20251110T220000
DTSTAMP:20260423T170844
CREATED:20251009T135010Z
LAST-MODIFIED:20251023T195124Z
UID:634-1762801200-1762812000@jessicapiscitellirobinson.com
SUMMARY:Reading at The Inner Loop
DESCRIPTION:I’m excited to be reading from my story in the new anthology\, America’s Future\, from Washington Writers Publishing House\, at The Inner Loop! \n\nWHEN:  Monday\, November 10th from 7-10 pm \nWHERE: Shaw’s Tavern\, 520 Florida Avenue Northwest\, Washington\, DC 20001 \n\nThe Inner Loop is known for their lively\, inclusive\, monthly reading series. Several contributors to America’s Future will be reading from the book\, and the book will be available for purchase!\n \nThis event is FREE AND OPEN TO ALL (RSVPS are requested).
URL:https://jessicapiscitellirobinson.com/events/reading-at-the-inner-loop/
LOCATION:Shaw’s Tavern\, 520 Florida Ave. NW\, District of Columbia\, 20001\, United States
CATEGORIES:Author Event
ATTACH;FMTTYPE=image/png:https://jessicapiscitellirobinson.com/wp-content/uploads/2025/10/Americas-Future-Draft.png
END:VEVENT
BEGIN:VEVENT
DTSTART;TZID=America/New_York:20251011T190000
DTEND;TZID=America/New_York:20251011T203000
DTSTAMP:20260423T170844
CREATED:20250911T185133Z
LAST-MODIFIED:20250925T184207Z
UID:613-1760209200-1760214600@jessicapiscitellirobinson.com
SUMMARY:Reading at 804 Lit
DESCRIPTION:I’ll be reading from my one year old memoir Stages: My Life in Stories at 804 Lit. \nOctober 11\, 2025 \n7:00pm Open / 7:30pm Readings\n804 Lit is located at 804 Quintana Place NW in Washington\, DC\nAs a reminder\, we ask that people do not park on Quintana Place because it’s a narrow street with people who are very attached to their spots. The surrounding streets\, 8th\, 9th\, Quackenbos\, all have parking. \nFREE\, but you must register in advance here. \nThe readings start at 7:30p after a half hour of conversation and wine\, and we’ll have an intermission after the first three readers. \nAs usual\, the series will include some readings and question and answer sessions to follow alongside snacks and drinks. We provide some wine and snacks but people are encouraged to contribute as well. It’s also encouraged to just support us via Venmo or newly released books as well! \nPlease note\, I only have a handful of copies of the book left. (I’ll order more soon but they won’t be in in time.) If you still haven’t gotten your copy\, I’ll have some books for sale and will be signing books\, if you want that. \n 
URL:https://jessicapiscitellirobinson.com/events/reading-at-804-lit/
CATEGORIES:Author Event
ATTACH;FMTTYPE=image/jpeg:https://jessicapiscitellirobinson.com/wp-content/uploads/2024/09/Author_Event_Coming-Soon-copy.jpg
END:VEVENT
BEGIN:VEVENT
DTSTART;TZID=America/New_York:20250410T193000
DTEND;TZID=America/New_York:20250410T213000
DTSTAMP:20260423T170844
CREATED:20250316T205922Z
LAST-MODIFIED:20250402T145250Z
UID:447-1744313400-1744320600@jessicapiscitellirobinson.com
SUMMARY:A Reading from Stages
DESCRIPTION:Montgomery County Underground Writers Showcase \nThursday\, April 10\, 7:30-9:00 PM ET in person at the Sandy Spring Museum\, 17901 Bentley Road\, Sandy Spring\, MD 20860 \n\nRegistration is FREE\, but required for all.\nRegister here: https://ci.ovationtix.com/36765/production/1187457?performanceId=11576855.\n\nThere are several nearby restaurants: (El Andariego\, 108 BBQ & Pizza in Sandy Spring; in nearby Olney\, there are chains like Greene Turtle\, McDs\, Cava Mezze\, etc.\, as well as Salt & Vine\, which is a bit more upscale).
URL:https://jessicapiscitellirobinson.com/events/a-live-reading-from-stages/
CATEGORIES:Author Event
ATTACH;FMTTYPE=image/jpeg:https://jessicapiscitellirobinson.com/wp-content/uploads/2025/03/April-10-2025-MCUG-FINAL.jpeg
END:VEVENT
BEGIN:VEVENT
DTSTART;TZID=America/New_York:20250126T173000
DTEND;TZID=America/New_York:20250126T190000
DTSTAMP:20260423T170844
CREATED:20240924T151525Z
LAST-MODIFIED:20241114T191325Z
UID:308-1737912600-1737918000@jessicapiscitellirobinson.com
SUMMARY:Author Event in Reston\, VA
DESCRIPTION:I am excited to be reading from my new memoir\, Stages: My Life in Stories\, for the Reston Readings series at Reston’s Used Book Shop! \nIf you don’t already have a copy\, you will be able to purchase the book and I’d be happy to sign your copy.
URL:https://jessicapiscitellirobinson.com/events/author-event-in-reston-va/
LOCATION:Reston’s Used Book Shop\, 1623 Washington Plaza North\, Reston\, VA\, 20190\, United States
CATEGORIES:Author Event,Free Events
ATTACH;FMTTYPE=image/jpeg:https://jessicapiscitellirobinson.com/wp-content/uploads/2024/09/Author_Event_Coming-Soon-copy.jpg
END:VEVENT
BEGIN:VEVENT
DTSTART;TZID=America/New_York:20241204T200000
DTEND;TZID=America/New_York:20241204T210000
DTSTAMP:20260423T170844
CREATED:20240925T185850Z
LAST-MODIFIED:20241113T194602Z
UID:326-1733342400-1733346000@jessicapiscitellirobinson.com
SUMMARY:Virtual Author Talk and Book Party
DESCRIPTION:On December 4\, Claire Hennessy\, of Six Feet Apart Productions fame\, will be leading a not so serious discussion of books with authors Bil Lepp\, Jessica Piscitelli Robinson\, and Donna Washington. \nThe storyteller-authors will discuss their latest books\, writing\, storytelling\, and possibly stray off the path into a few tall tales. They are\, after all\, storytellers. \nThis event is free\, but you have to register to attend. The link to register is below or click here. \nStages: My Life in Stories was published September 2024 by Tucker DS Press. You can purchase the book through Tucker DS Press here\, or find out more about where to meet the author and purchase the book from jessicapiscitellirobinson.com \nFind out more about Bil Lepp and Donna Washington\, and links to get their books\, here!
URL:https://jessicapiscitellirobinson.com/events/virtual-author-talk-and-storytelling/
CATEGORIES:Author Event,Storytelling
ATTACH;FMTTYPE=image/jpeg:https://jessicapiscitellirobinson.com/wp-content/uploads/2024/09/Virtual_Author_Event_12_4_24.jpg
END:VEVENT
BEGIN:VEVENT
DTSTART;TZID=America/New_York:20241119T193000
DTEND;TZID=America/New_York:20241119T220000
DTSTAMP:20260423T170844
CREATED:20240927T214652Z
LAST-MODIFIED:20240927T214652Z
UID:336-1732044600-1732053600@jessicapiscitellirobinson.com
SUMMARY:The Inner Loop Literary Reading Series
DESCRIPTION:I am thrilled to be joining the Inner Loop for their November reading series\, featuring A. B. Spellman and 9 local writers (8 plus me) – including Author’s Corner Spotlight Luke Sutherland! It’s FREE and there’s pizza! To be clear\, the pizza’s not free\, but you can get pizza and listen to literature! Could it get any better? \nMark your calendar\, grab your friends\, and head to the back patio of Sonny’s Pizza on November 19th at 7:30pm. Whether you’re a bookworm\, an inspiring writer\, or just enjoy listening to stories\, The Inner Loop readings have something for everyone. Our mission is to create an inclusive writing community in DC\, so we encourage you to grab some food\, a drink\, and meet other literature lovers. We can’t wait to see you there!
URL:https://jessicapiscitellirobinson.com/events/the-inner-loop-literary-reading-series/
LOCATION:Sonny’s Pizza\, 3120 Georgia Avenue NW.\, Washington\, DC\, 20010\, United States
CATEGORIES:Author Event,Free Events
ATTACH;FMTTYPE=image/png:https://jessicapiscitellirobinson.com/wp-content/uploads/2024/09/inner-loop-e1727473517474.png
END:VEVENT
BEGIN:VEVENT
DTSTART;TZID=America/New_York:20241116T110000
DTEND;TZID=America/New_York:20241116T130000
DTSTAMP:20260423T170844
CREATED:20240909T144332Z
LAST-MODIFIED:20241016T184842Z
UID:268-1731754800-1731762000@jessicapiscitellirobinson.com
SUMMARY:Author Event at Winchester Book Gallery
DESCRIPTION:I will be telling stories\, taking questions and signing copies of my new memoir\, Stages: My Life in Stories\, on November 16th\, starting at 11:00am\, at the Winchester Book Gallery in beautiful Winchester\, VA. Come for the books\, stay for the stories. \nAbout the Stages: My Life in Stories:\nIn Stages: My Life in Stories\, spoken-word storyteller Jessica Robinson has collected twenty-five stories that span from her childhood in the eighties to the creation of her own children through IVF. The collection is meant to be read as a memoir in stories. Each story is complete in and of itself\, but represents a different pivotal moment\, a different stage in the life of the storyteller. \n“Jessica’s stories create a work of heart. Each chapter reads like a conversation in which I listen to an old friend’s experiences\, and recognize my own. Thoughtfully written\, presented in pastel touches of humor and pathos\, this book is an appreciation of all the colors of a life.”\n– Lyn Ford\, spoken-word storyteller and author \n“Oh\, this book is subtle and delightful. At first glance\, it’s a memoir\, a collection of amusing\, moving stories that follow the author through her life. As you reach the end of the book\, of course\, you see the larger picture\, like an image arising out of mosaics. \n\nBut it’s also a masterclass on storytelling\, and Jessica Piscitelli Robinson a master storyteller. She holds our attention while using a variety of story forms\, clearly enjoying playing with screenplays and allusions to Greek myths. Each story wraps up perfectly\, making a compelling and complete package.”\n– Author Anne Janzer \n\n\nPublisher Information:\nStages is published by Tucker DS Press\nhttps://www.tuckerdspress.com/books\nAbout The Winchester Book Gallery:\nThe Winchester Book Gallery is the 51-year old\, independent\, locally owned bookstore serving the northern Shenandoah Valley of Virginia. As a cornerstone of our community\, we offer new books\, Local Art\, Cards\, Book Fairs and Special Orders. The Book Gallery regularly hosts book signings\, book clubs and community nights. In addition\, we offer everyday discounts for teachers and book clubs. The Winchester Book Gallery inspires\, informs and amuses customers with compelling book selections and a diverse selection of other merchandise. \nAbout the Author:\nJessica Robinson is the Founding Executive Director of Better Said Than Done\, the Northern Virginia-based storytelling organization that\, in addition to its semi-monthly shows\, hosts the annual Women’s Storytelling Festival. A spoken-word storyteller\, Jessica has performed at Exchange Place at the International Storytelling Festival\, on WGBH’s “Stories from the Stage\,” and for the Stone Soup\, the Washington Folk\, the Florida\, and the Hampton Storytelling festivals. Jessica is a 2023 ORACLE Award recipient from the National Storytelling Network. In addition to magazines\, reviews\, and anthologies\, Jessica is the author of Caged (under pen name JP Robinson) and co-author of the anthology Roar: True Tales of Women Warriors.
URL:https://jessicapiscitellirobinson.com/events/author-event-at-winchester-book-gallery/
LOCATION:Winchester Book Gallery\, 7 N Loudoun St\, Winchester\, VA\, 22601\, United States
CATEGORIES:Author Event
ATTACH;FMTTYPE=image/jpeg:https://jessicapiscitellirobinson.com/wp-content/uploads/2024/09/Stages_IG_WBG_Author_Event.jpg
END:VEVENT
END:VCALENDAR